BEGIN:VCALENDAR
VERSION:2.0
PRODID:-//Ehrenamt Cradle to Cradle NGO - ECPv6.15.12.2//NONSGML v1.0//EN
CALSCALE:GREGORIAN
METHOD:PUBLISH
X-ORIGINAL-URL:https://ehrenamt.c2c.ngo
X-WR-CALDESC:Veranstaltungen für Ehrenamt Cradle to Cradle NGO
REFRESH-INTERVAL;VALUE=DURATION:PT1H
X-Robots-Tag:noindex
X-PUBLISHED-TTL:PT1H
BEGIN:VTIMEZONE
TZID:Europe/Berlin
BEGIN:DAYLIGHT
TZOFFSETFROM:+0100
TZOFFSETTO:+0200
TZNAME:CEST
DTSTART:20230326T010000
END:DAYLIGHT
BEGIN:STANDARD
TZOFFSETFROM:+0200
TZOFFSETTO:+0100
TZNAME:CET
DTSTART:20231029T010000
END:STANDARD
BEGIN:DAYLIGHT
TZOFFSETFROM:+0100
TZOFFSETTO:+0200
TZNAME:CEST
DTSTART:20240331T010000
END:DAYLIGHT
BEGIN:STANDARD
TZOFFSETFROM:+0200
TZOFFSETTO:+0100
TZNAME:CET
DTSTART:20241027T010000
END:STANDARD
BEGIN:DAYLIGHT
TZOFFSETFROM:+0100
TZOFFSETTO:+0200
TZNAME:CEST
DTSTART:20250330T010000
END:DAYLIGHT
BEGIN:STANDARD
TZOFFSETFROM:+0200
TZOFFSETTO:+0100
TZNAME:CET
DTSTART:20251026T010000
END:STANDARD
END:VTIMEZONE
BEGIN:VEVENT
DTSTART;TZID=Europe/Berlin:20240504T100000
DTEND;TZID=Europe/Berlin:20240504T170000
DTSTAMP:20260419T142420
CREATED:20240409T132713Z
LAST-MODIFIED:20240409T132713Z
UID:6250-1714816800-1714842000@ehrenamt.c2c.ngo
SUMMARY:C2C Starterseminar in Berlin
DESCRIPTION:Liebe Cradle to Cradle-Interessierte und Aktive\, \nder Arbeitskreis Seminare veranstaltet am Samstag\, den 04. Mai 2024 das nächste C2C Starterseminar.\nDas Seminar bietet die Möglichkeit die wichtigen Basics über Cradle to Cradle und alles rund um die Arbeit von C2C NGO zu erfahren und richtet sich an die Aktiven von C2C NGO und alle Interessierten. \nDas Seminar ist kostenlos und findet von 10:00 bis ca. 17:00 Uhr in Berlin statt. \nDieses Starterseminar findet an einem besonderen Ort statt: in der aktuellen C2C Ausstellung im Freiraum in der Box in Berlin-Friedrichshain. \nDie Ausstellung ist ebenfalls kostenlos. \nAdresse:\nFreiraum in der Box\nBoxhagener Str. 96\n10245 Berlin\n>> hier auf Google Maps \nWas erwartet Euch?\nDie Cradle to Cradle-Trainer*innen geben  zunächst einen Einführungsvortrag über Cradle to Cradle\, um alle auf einen Stand zu bringen. Im weiteren Verlauf schließen sich interaktive Module zu den Themen Zertifizierung\, Produktbeispiele\, FAQs\, C2C NGO etc. an. \nJetzt schnell anmelden und dabei sein! \nAnmeldung hier! \nWir freuen uns auf Dich!\nDas Trainer*innenteam von AK Seminare und Team Ehrenamtsmanagement🙂
URL:https://ehrenamt.c2c.ngo/event/c2c-starterseminar-in-berlin/
LOCATION:Freiraum in der Box\, Boxhagener Str. 96\, Berlin\, 10245
CATEGORIES:C2C NGO,Starterseminar
ATTACH;FMTTYPE=image/jpeg:https://ehrenamt.c2c.ngo/wp-content/uploads/2023/10/IMG_5888-scaled.jpg
END:VEVENT
BEGIN:VEVENT
DTSTART;VALUE=DATE:20240522
DTEND;VALUE=DATE:20240527
DTSTAMP:20260419T142420
CREATED:20230829T102238Z
LAST-MODIFIED:20231121T144422Z
UID:5277-1716336000-1716767999@ehrenamt.c2c.ngo
SUMMARY:C2C Akademie 2024
DESCRIPTION:Save the Date! \nAm 22. – 26. Mai 2024 findet die C2C Akademie in Mainz statt.\n\nEs erwarten Euch Podiumsdiskussionen\, Workshops\, Vorträge\, ein vielfältiges Barcamp und viel Austausch und Zeit mit Gleichgesinnten. \nSeid dabei und macht die C2C Akademie mit uns zu einem großen Event! \nMehr Informationen findet Ihr hier.
URL:https://ehrenamt.c2c.ngo/event/c2c-akademie-2024/
LOCATION:Mainz
CATEGORIES:C2C NGO
ATTACH;FMTTYPE=image/png:https://ehrenamt.c2c.ngo/wp-content/uploads/2023/08/Akademie-2024-Banner-vorlaeufig-Website-1.png
END:VEVENT
END:VCALENDAR