BEGIN:VCALENDAR
VERSION:2.0
PRODID:-//Ehrenamt Cradle to Cradle NGO - ECPv6.15.12.2//NONSGML v1.0//EN
CALSCALE:GREGORIAN
METHOD:PUBLISH
X-WR-CALNAME:Ehrenamt Cradle to Cradle NGO
X-ORIGINAL-URL:https://ehrenamt.c2c.ngo
X-WR-CALDESC:Veranstaltungen für Ehrenamt Cradle to Cradle NGO
REFRESH-INTERVAL;VALUE=DURATION:PT1H
X-Robots-Tag:noindex
X-PUBLISHED-TTL:PT1H
BEGIN:VTIMEZONE
TZID:Europe/Berlin
BEGIN:DAYLIGHT
TZOFFSETFROM:+0100
TZOFFSETTO:+0200
TZNAME:CEST
DTSTART:20230326T010000
END:DAYLIGHT
BEGIN:STANDARD
TZOFFSETFROM:+0200
TZOFFSETTO:+0100
TZNAME:CET
DTSTART:20231029T010000
END:STANDARD
BEGIN:DAYLIGHT
TZOFFSETFROM:+0100
TZOFFSETTO:+0200
TZNAME:CEST
DTSTART:20240331T010000
END:DAYLIGHT
BEGIN:STANDARD
TZOFFSETFROM:+0200
TZOFFSETTO:+0100
TZNAME:CET
DTSTART:20241027T010000
END:STANDARD
BEGIN:DAYLIGHT
TZOFFSETFROM:+0100
TZOFFSETTO:+0200
TZNAME:CEST
DTSTART:20250330T010000
END:DAYLIGHT
BEGIN:STANDARD
TZOFFSETFROM:+0200
TZOFFSETTO:+0100
TZNAME:CET
DTSTART:20251026T010000
END:STANDARD
END:VTIMEZONE
BEGIN:VEVENT
DTSTART;TZID=Europe/Berlin:20240911T190000
DTEND;TZID=Europe/Berlin:20240911T210000
DTSTAMP:20260419T180453
CREATED:20240911T115905Z
LAST-MODIFIED:20240911T165005Z
UID:6602-1726081200-1726088400@ehrenamt.c2c.ngo
SUMMARY:Offener C2C-Stammtisch Darmstadt: September
DESCRIPTION:ACHTUNG\, LOCATION WECHSEL: Wir treffen uns im La Piazza\, im Carree. \nWir laden zum monatlichen Stammtisch ein\, um uns in gemütlicher Runde über C2C-Themen auszutauschen. \nBeim September-Stammtisch berichtet unser Co-Sprecher Max über das Labor Tempelhof und wie Veranstaltungen nachhaltig nach C2C geplant werden können. \nWann? Mittwoch\, 11.09.\, ab 19 Uhr\nWo? La Piazza im Carree\nWer? Jede Person mit Interesse\, unabhängig von jeglichem Vorwissen.\nWir freuen uns auf euch 😊
URL:https://ehrenamt.c2c.ngo/event/offener-c2c-stammtisch-darmstadt/
LOCATION:Vapiano\, Rheinstraße 103\, Darmstadt\, 64295\, Deutschland
CATEGORIES:Events von Aktiven,RG Darmstadt
ATTACH;FMTTYPE=image/png:https://ehrenamt.c2c.ngo/wp-content/uploads/2024/09/C2C-Stammtisch-Darmstadt.png
ORGANIZER;CN="RG Darmstadt":MAILTO:darmstadt@ehrenamt.c2c.ngo
END:VEVENT
BEGIN:VEVENT
DTSTART;TZID=Europe/Berlin:20240918T190000
DTEND;TZID=Europe/Berlin:20240918T210000
DTSTAMP:20260419T180453
CREATED:20240911T211047Z
LAST-MODIFIED:20240911T211047Z
UID:6643-1726686000-1726693200@ehrenamt.c2c.ngo
SUMMARY:RG-Treffen Hamburg
DESCRIPTION:Lerne die RG Hamburg kennen und sei bei unserem regelmäßig stattfindenden Regionalgruppentreffen dabei!\nWir machen einen kurzen Rückblick\, haben einen Themeninput\, planen zukünftige Termine und haben Zeit zum Netzwerken. \nWir treffen uns im Betahaus in der Schanze\, melde dich gern vorher an unter hamburg@ehrenamt.c2c.ngo.
URL:https://ehrenamt.c2c.ngo/event/rg-treffen-hamburg-9/
LOCATION:Betahaus Hamburg\, Eifflerstraße 43\, Hamburg\, Hamburg\, 22769\, Deutschland
CATEGORIES:Events von Aktiven,RG Hamburg
ATTACH;FMTTYPE=image/jpeg:https://ehrenamt.c2c.ngo/wp-content/uploads/2023/01/C2C_NGO_Ehrenamt_web___Hamburg.jpg
END:VEVENT
BEGIN:VEVENT
DTSTART;TZID=Europe/Berlin:20240921T120000
DTEND;TZID=Europe/Berlin:20240922T170000
DTSTAMP:20260419T180453
CREATED:20240912T093307Z
LAST-MODIFIED:20240917T203332Z
UID:6649-1726920000-1727024400@ehrenamt.c2c.ngo
SUMMARY:C2C & WDC 2026 @ Welterbefest Mathildenhöhe Darmstadt
DESCRIPTION:Am Samstag\, 21.09.\, und Sonntag\, 22.09.\, bieten wir jeweils von 12:00- 14:00 Uhr und 15:00 – 17 Uhr einen C2C-Workshop beim roten Werkstattwagen der World Design Capital (WDC) Frankfurt Rhein-Main auf dem Welterbefest an der Mathildenhöhe in Darmstadt an. \nIm Workshop der Cradle to Cradle NGO habt Ihr die Möglichkeit\, das C2C-Konzept kennenzulernen\, selbst Produkte und Materialien nach C2C-Kriterien zu bewerten und Positivbeispiele zu entdecken. Wer möchte\, kann außerdem Seedbombs bauen\, kleine Kugeln aus Erde\, Ton und Blumensamen\, die Ihr überall in der Natur wegwerfen könnt\, damit an dieser Stelle Blumen wachsen: Quasi ein Mitbringsel zum Wegwerfen\, das keinen Müll produziert. \nKommt vorbei\, wir freuen uns auf euch! \nWeitere Informationen zur Veranstaltung auch auf der Webseite der WDC: https://wdc2026.org/workshop-truck-on-the-road/ \n  \n 
URL:https://ehrenamt.c2c.ngo/event/c2c-wdc-welterbefest-darmstadt/
CATEGORIES:Events von Aktiven,RG Darmstadt
ATTACH;FMTTYPE=image/png:https://ehrenamt.c2c.ngo/wp-content/uploads/2024/09/C2C-x-WDC2026-@-Mathildenhoehe-1.png
END:VEVENT
BEGIN:VEVENT
DTSTART;TZID=Europe/Berlin:20240924T103000
DTEND;TZID=Europe/Berlin:20240924T170000
DTSTAMP:20260419T180453
CREATED:20240911T152812Z
LAST-MODIFIED:20240911T153159Z
UID:6627-1727173800-1727197200@ehrenamt.c2c.ngo
SUMMARY:BilRess-Netzwerkkonferenz
DESCRIPTION:Die Rohstoffströme in der deutschen Wirtschaft sind immer noch in weiten Bereichen linear organisiert. Laut Statistischen Amt der EU (Eurostat) betrug der Anteil der Sekundärrohstoffe am gesamten Rohstoffverbrauch in Deutschland im Jahr 2022 nur circa 13 Prozent. Ohne gezielte Maßnahmen der Kreislaufwirtschaft wird der primäre Rohstoffverbrauch weiter steigen (BMUV). \nVor diesem Hintergrund liegt der Schwerpunkt der BilRess-Netzwerkkonferenz auf dem Thema „Rohstoffe und Zirkularität im beruflichen und privaten Alltag“. Die Konferenz wird sich mit den Herausforderungen und Möglichkeiten der Kreislaufwirtschaft und den resultierenden Bildungsanforderungen auseinandersetzen: \nDie RG Darmstadt ist mit einem Stand auf der Konferenz vertreten und freut sich auf den Austausch. \nWeitere Informationen zur Veranstaltung unter https://www.bilress.de/veranstaltungen/21-netzwerkkonferenz/
URL:https://ehrenamt.c2c.ngo/event/rg-darmstadt-auf-der-bilress-netzwerkkonferenz/
LOCATION:Ka Eins\, Kasseler Straße 1a\, Frankfurt\, 60486\, Deutschland
CATEGORIES:Events von Aktiven,RG Darmstadt
ATTACH;FMTTYPE=image/jpeg:https://ehrenamt.c2c.ngo/wp-content/uploads/2024/09/C2C-DA_Messe.jpg
END:VEVENT
BEGIN:VEVENT
DTSTART;TZID=Europe/Berlin:20240925T190000
DTEND;TZID=Europe/Berlin:20240925T203000
DTSTAMP:20260419T180453
CREATED:20240129T094616Z
LAST-MODIFIED:20240911T073249Z
UID:5994-1727290800-1727296200@ehrenamt.c2c.ngo
SUMMARY:C2C NGO Hauptamtbühne
DESCRIPTION:Dies ist eine Veranstaltung für alle aktiven Mitglieder der C2C NGO. \n💥 Scheinwerfer an! 🎤\nEs ist Zeit für C2C NGO Bühne. \nWir möchten den Austausch zwischen den Ehrenamtlichen und der Geschäftsstelle fördern\, uns gegenseitig von unseren Projekten\, Events und Herausforderungen berichten\, uns dadurch inspirieren und motivieren.\nC2C NGO Bühne – Raum für Fragen\, Neugier\, Tricks und Tipps! \nDie monatlich stattfindende C2C NGO Bühne ist ein digitales Abendformat (19:00 Uhr – 20:30 Uhr) für alle Menschen aus der C2C Community und setzt sich aus der C2C NGO Aktivenbühne\, sowie der C2C NGO Hauptamtbühne zusammen. Im monatlichen Wechsel steht die Bühne für Initiativen & Geschäftsstellen-Referate offen. 🤗 \nDie Themen der C2C NGO Hauptamtbühne kommen von uns. Die C2C NGO Aktivenbühne jedoch wird von Euch bespielt. 😉 Du bist Aktive*r und möchtest etwas vorstellen? Dann trage es HIER ein. \nMehr zu den jeweiligen Themen\, sowie die Zugangsdaten findet Ihr in unserem internen Netzwerk Podio. \nWir freuen uns auf Euch! \nKommt vorbei! 🤩
URL:https://ehrenamt.c2c.ngo/event/c2c-ngo-hauptamtbuehne-2/
LOCATION:Digital
CATEGORIES:C2C NGO
ATTACH;FMTTYPE=image/png:https://ehrenamt.c2c.ngo/wp-content/uploads/2024/01/Akademie-2024-Banner-vorlaeufig-Website-2.png
END:VEVENT
BEGIN:VEVENT
DTSTART;TZID=Europe/Berlin:20240928T110000
DTEND;TZID=Europe/Berlin:20240929T180000
DTSTAMP:20260419T180453
CREATED:20240911T205801Z
LAST-MODIFIED:20240911T210450Z
UID:6637-1727521200-1727632800@ehrenamt.c2c.ngo
SUMMARY:Infostand auf der Green World Tour Hamburg
DESCRIPTION:Die vielfältige Welt der Nachhaltigkeit in einer Messe – mit Solar-Tagen\,\nKleidertauschbörse und Kinderprogramm: Die Green World Tour kommt am\nWochenende 28. + 29. September 2024 nach #Hamburg. In der Gleishalle\nOberhafen (Stockmeyerstraße 43\, HafenCity) zeigen dir die Aussteller*innen (u.a. wir als Regionalgruppe Hamburg von C2C mit einem Infostand) jeweils\nvon 11-18 Uhr\, wie wir zusammen unser Leben und den Planeten grüner gestalten\nkönnen. @Green World Tour Hamburg – mehr Infos und Online-Tickets:\nwww.autarkia.info
URL:https://ehrenamt.c2c.ngo/event/infostand-auf-der-green-world-tour-hamburg/
LOCATION:Gleishalle Oberhafen\, Stockmeyerstraße 43\, Hamburg\, Hamburg\, Deutschland
CATEGORIES:Events von Aktiven,RG Hamburg
ATTACH;FMTTYPE=image/png:https://ehrenamt.c2c.ngo/wp-content/uploads/2024/09/Hamburg-2024-Banner3.png
END:VEVENT
END:VCALENDAR