BEGIN:VCALENDAR
VERSION:2.0
PRODID:-//Ehrenamt Cradle to Cradle NGO - ECPv6.15.12.2//NONSGML v1.0//EN
CALSCALE:GREGORIAN
METHOD:PUBLISH
X-ORIGINAL-URL:https://ehrenamt.c2c.ngo
X-WR-CALDESC:Veranstaltungen für Ehrenamt Cradle to Cradle NGO
REFRESH-INTERVAL;VALUE=DURATION:PT1H
X-Robots-Tag:noindex
X-PUBLISHED-TTL:PT1H
BEGIN:VTIMEZONE
TZID:Europe/Berlin
BEGIN:DAYLIGHT
TZOFFSETFROM:+0100
TZOFFSETTO:+0200
TZNAME:CEST
DTSTART:20230326T010000
END:DAYLIGHT
BEGIN:STANDARD
TZOFFSETFROM:+0200
TZOFFSETTO:+0100
TZNAME:CET
DTSTART:20231029T010000
END:STANDARD
BEGIN:DAYLIGHT
TZOFFSETFROM:+0100
TZOFFSETTO:+0200
TZNAME:CEST
DTSTART:20240331T010000
END:DAYLIGHT
BEGIN:STANDARD
TZOFFSETFROM:+0200
TZOFFSETTO:+0100
TZNAME:CET
DTSTART:20241027T010000
END:STANDARD
BEGIN:DAYLIGHT
TZOFFSETFROM:+0100
TZOFFSETTO:+0200
TZNAME:CEST
DTSTART:20250330T010000
END:DAYLIGHT
BEGIN:STANDARD
TZOFFSETFROM:+0200
TZOFFSETTO:+0100
TZNAME:CET
DTSTART:20251026T010000
END:STANDARD
END:VTIMEZONE
BEGIN:VEVENT
DTSTART;TZID=Europe/Berlin:20240814T190000
DTEND;TZID=Europe/Berlin:20240814T213000
DTSTAMP:20260421T101000
CREATED:20240722T174003Z
LAST-MODIFIED:20240722T174003Z
UID:6555-1723662000-1723671000@ehrenamt.c2c.ngo
SUMMARY:Offener Stammtisch Darmstadt: August
DESCRIPTION:Wann? Mittwoch\, 14.08.\, ab 19 Uhr\nWo? Klause (Am Fürstenbahnhof 1\, 64293 Darmstadt\, direkt am Hbf);\nbei Regen: Vapiano (5 min Fußweg vom Hbf)\, Rheinstraße 103\, 64295 Darmstadt\nWer? Jede Person mit Interesse\, unabhängig von jeglichem Vorwissen.\nWir freuen uns auf euch 😊
URL:https://ehrenamt.c2c.ngo/event/offener-stammtisch-darmstadt-august/
LOCATION:Klause\, Am Fürstenbahnhof 1\, Darmstadt\, 64293
CATEGORIES:Events von Aktiven,RG Darmstadt
ORGANIZER;CN="RG Darmstadt":MAILTO:darmstadt@ehrenamt.c2c.ngo
END:VEVENT
BEGIN:VEVENT
DTSTART;VALUE=DATE:20240823
DTEND;VALUE=DATE:20240826
DTSTAMP:20260421T101000
CREATED:20240625T083520Z
LAST-MODIFIED:20240804T191816Z
UID:6492-1724371200-1724630399@ehrenamt.c2c.ngo
SUMMARY:Labor Tempelhof 2024
DESCRIPTION:Werde C2C Botschafter*in und feier mit Die Ärzte!\n \nIm August 2024 veranstalten Loft Concerts gemeinsam mit den Mitinitiatoren C2C NGO\, KKT und SBS drei Konzerte der Band Die Ärzte auf dem Tempelhofer Feld in Berlin.Die Konzerte werden nach Cradle to Cradle Prinzipien ausgerichtet.\nWie schon 2022 setzen wir uns erneut das Ziel\, klima- und ressourcenpositive Produkte\, Prozesse und Innovationen zu testen\, zu skalieren und Cradle to Cradle den Menschen näher zu bringen. \nAlle Informationen zum Labor Tempelhof findest du hier. \nHierfür brauchen wir tatkräftige Unterstützung. \nAls Botschafter*in hast du die einmalige Chance die Konzerte kostenlos mitzuerleben und mitzugestalten – und somit die Welt ein Stückchen besser zu machen! \n\nDu kannst an einem Tag helfen oder an mehreren Tagen. Generell benötigen wir dich ganztägig. \nMelde Dich gerne beim Team Ehrenamtsmanagement!\nE-Mail: ehrenamt[at]c2c.ngo \n\nAnmelden kannst du dich hier.
URL:https://ehrenamt.c2c.ngo/event/labor-tempelhof-2024/
LOCATION:Flughafen Tempelhof\, Platz der Luftbrücke 5\, Berlin\, 12101\, Deutschland
ATTACH;FMTTYPE=image/jpeg:https://ehrenamt.c2c.ngo/wp-content/uploads/2024/06/2022_LABOR_TEMPELHOF_Gruppenfoto_mit_Die_Aerzte_26_08_2022©Cradle-to-Cradle-NGO-1.jpg
END:VEVENT
BEGIN:VEVENT
DTSTART;VALUE=DATE:20240824
DTEND;VALUE=DATE:20240825
DTSTAMP:20260421T101000
CREATED:20240625T132140Z
LAST-MODIFIED:20240804T191720Z
UID:6511-1724457600-1724543999@ehrenamt.c2c.ngo
SUMMARY:Labor Tempelhof 2024
DESCRIPTION:Werde C2C Botschafter*in und feier mit Die Ärzte!\n \nIm August 2024 veranstalten Loft Concerts gemeinsam mit den Mitinitiatoren C2C NGO\, KKT und SBS drei Konzerte der Band Die Ärzte auf dem Tempelhofer Feld in Berlin.Die Konzerte werden nach Cradle to Cradle Prinzipien ausgerichtet.\nWie schon 2022 setzen wir uns erneut das Ziel\, klima- und ressourcenpositive Produkte\, Prozesse und Innovationen zu testen\, zu skalieren und Cradle to Cradle den Menschen näher zu bringen. \nAlle Informationen zum Labor Tempelhof findest du hier. \nHierfür brauchen wir tatkräftige Unterstützung. \nAls Botschafter*in hast du die einmalige Chance die Konzerte kostenlos mitzuerleben und mitzugestalten – und somit die Welt ein Stückchen besser zu machen! \n\nDu kannst an einem Tag helfen oder an mehreren Tagen. Generell benötigen wir dich ganztägig. \nMelde Dich gerne beim Team Ehrenamtsmanagement!\nE-Mail: ehrenamt[at]c2c.ngo \n\nAnmelden kannst du dich hier.
URL:https://ehrenamt.c2c.ngo/event/labor-tempelhof-2024-2/
LOCATION:Flughafen Tempelhof\, Platz der Luftbrücke 5\, Berlin\, 12101\, Deutschland
ATTACH;FMTTYPE=image/jpeg:https://ehrenamt.c2c.ngo/wp-content/uploads/2024/06/2022_LABOR_TEMPELHOF_Gruppenfoto_mit_Die_Aerzte_26_08_2022©Cradle-to-Cradle-NGO-1.jpg
END:VEVENT
BEGIN:VEVENT
DTSTART;VALUE=DATE:20240825
DTEND;VALUE=DATE:20240826
DTSTAMP:20260421T101000
CREATED:20240625T132648Z
LAST-MODIFIED:20240804T191330Z
UID:6513-1724544000-1724630399@ehrenamt.c2c.ngo
SUMMARY:Labor Tempelhof 2024
DESCRIPTION:Werde C2C Botschafter*in und feier mit Die Ärzte!\n \nIm August 2024 veranstalten Loft Concerts gemeinsam mit den Mitinitiatoren C2C NGO\, KKT und SBS drei Konzerte der Band Die Ärzte auf dem Tempelhofer Feld in Berlin.Die Konzerte werden nach Cradle to Cradle Prinzipien ausgerichtet.\nWie schon 2022 setzen wir uns erneut das Ziel\, klima- und ressourcenpositive Produkte\, Prozesse und Innovationen zu testen\, zu skalieren und Cradle to Cradle den Menschen näher zu bringen. \nAlle Informationen zum Labor Tempelhof findest du hier. \nHierfür brauchen wir tatkräftige Unterstützung. \nAls Botschafter*in hast du die einmalige Chance die Konzerte kostenlos mitzuerleben und mitzugestalten – und somit die Welt ein Stückchen besser zu machen! \n\nDu kannst an einem Tag helfen oder an mehreren Tagen. Generell benötigen wir dich ganztägig. \nMelde Dich gerne beim Team Ehrenamtsmanagement!\nE-Mail: ehrenamt[at]c2c.ngo \n\nAnmelden kannst du dich hier.
URL:https://ehrenamt.c2c.ngo/event/labor-tempelhof-2024-3/
LOCATION:Flughafen Tempelhof\, Platz der Luftbrücke 5\, Berlin\, 12101\, Deutschland
ATTACH;FMTTYPE=image/jpeg:https://ehrenamt.c2c.ngo/wp-content/uploads/2024/06/2022_LABOR_TEMPELHOF_Gruppenfoto_mit_Die_Aerzte_26_08_2022©Cradle-to-Cradle-NGO-1.jpg
END:VEVENT
END:VCALENDAR