BEGIN:VCALENDAR
VERSION:2.0
PRODID:-//Ehrenamt Cradle to Cradle NGO - ECPv6.15.12.2//NONSGML v1.0//EN
CALSCALE:GREGORIAN
METHOD:PUBLISH
X-WR-CALNAME:Ehrenamt Cradle to Cradle NGO
X-ORIGINAL-URL:https://ehrenamt.c2c.ngo
X-WR-CALDESC:Veranstaltungen für Ehrenamt Cradle to Cradle NGO
REFRESH-INTERVAL;VALUE=DURATION:PT1H
X-Robots-Tag:noindex
X-PUBLISHED-TTL:PT1H
BEGIN:VTIMEZONE
TZID:Europe/Berlin
BEGIN:DAYLIGHT
TZOFFSETFROM:+0100
TZOFFSETTO:+0200
TZNAME:CEST
DTSTART:20230326T010000
END:DAYLIGHT
BEGIN:STANDARD
TZOFFSETFROM:+0200
TZOFFSETTO:+0100
TZNAME:CET
DTSTART:20231029T010000
END:STANDARD
BEGIN:DAYLIGHT
TZOFFSETFROM:+0100
TZOFFSETTO:+0200
TZNAME:CEST
DTSTART:20240331T010000
END:DAYLIGHT
BEGIN:STANDARD
TZOFFSETFROM:+0200
TZOFFSETTO:+0100
TZNAME:CET
DTSTART:20241027T010000
END:STANDARD
BEGIN:DAYLIGHT
TZOFFSETFROM:+0100
TZOFFSETTO:+0200
TZNAME:CEST
DTSTART:20250330T010000
END:DAYLIGHT
BEGIN:STANDARD
TZOFFSETFROM:+0200
TZOFFSETTO:+0100
TZNAME:CET
DTSTART:20251026T010000
END:STANDARD
END:VTIMEZONE
BEGIN:VEVENT
DTSTART;TZID=Europe/Berlin:20241025T193000
DTEND;TZID=Europe/Berlin:20241027T140000
DTSTAMP:20260419T182031
CREATED:20240912T123314Z
LAST-MODIFIED:20241017T122325Z
UID:6574-1729884600-1730037600@ehrenamt.c2c.ngo
SUMMARY:Plenum Jahreskonferenz 2024
DESCRIPTION:Die C2C Plenum Jahreskonferenz 2024 steht an!\nDie Plenum Jahreskonferenz ist ein kleineres Community Event – organisiert aus der Geschäftsstellte – um mit allen Sprecher*innen (oder Vertretungen) der Initiativen vorrangig an strategischen und organisatorischen Themen zu unserer gemeinsamen Arbeit bei C2C NGO zu arbeiten. \n  \nWas erwartet Euch 2024?\nJedes Jahr setzen wir bei der Jahreskonferenz durch Diskussionen und Workshops eine Menge Motivation\, Synergien und gute neue Ideen frei. Wir werden Euch anhand von Fakten\, Zahlen und Herausforderungen der letzten Zeit sowie durch lustige Anekdoten auf den aktuellen Stand der NGO bringen. So können wir gemeinsam neue Ideen und Lösungsvorschläge erarbeiten. Es ist auf jeden Fall ein bereicherndes Wochenende mit viel Spaß\, Freude und persönlichem Austausch. \nDer Fokus in diesem Jahr liegt auf neuen Entwicklungen im Community Management\, dem Onboarding von Aktiven\, Themen aus der Kommunalen Entwicklung sowie Ideenfindungen und Lösungsansätzen für bestehende Herausforderungen. \nNeben einem Halbjahres-Rückblick (v.a zur C2C Akademie 24) soll die Jahreskonferenz auch Ausblick geben auf das Jahr 2025 –  mit besonderem Blick auf den C2C Congress im März  in Berlin sowie die C2C Akademie im Herbst. \n  \nWer ist eingeladen?\nAus dem Vorstand wird Tim mit dabei sein\, sowie ein kleiner Teil des Teams der Geschäftsstelle. Aus dem Ehrenamt werden die Sprecher*innen bzw. deren Vertretung der Regionalgruppen\, Bündnisse und Arbeitskreise eingeladen. Ebenso werden dieses Jahr wieder fünf Hotseats vergeben\, d. h. auch Nicht-Sprecher*innen können nach Anfrage dabei sein. \nEin ausführliches Programm und einen detaillierten Anfahrtsplan werden wir Euch rechtzeitig zukommen lassen. Bei Fragen oder Anregungen könnt Ihr Euch gerne bei uns melden. \nUnterkunft:\nJugendgästehaus Stuttgart \nTagungsorte:\nSamstag: Räumlichkeiten bei Herrmann + Bosch Architekten \nSonntag: Ideenwerkstatt im Experimentierraum Stuttgart \nHier geht´s zum Anmeldelink: \nWir freuen uns und heißen alle Teilnehmer*innen in Stuttgart herzlich willkommen! \nEuer Team Ehrenamtsmanagement \nCaro & Johanna
URL:https://ehrenamt.c2c.ngo/event/plenum-jahreskonferenz-2024/
LOCATION:Stuttgart
CATEGORIES:C2C NGO,Plenum Jahres Konferenz
ATTACH;FMTTYPE=image/jpeg:https://ehrenamt.c2c.ngo/wp-content/uploads/2024/08/PJK23_Gruppe.jpg
END:VEVENT
END:VCALENDAR