BEGIN:VCALENDAR
VERSION:2.0
PRODID:-//Ehrenamt Cradle to Cradle NGO - ECPv6.15.12.2//NONSGML v1.0//EN
CALSCALE:GREGORIAN
METHOD:PUBLISH
X-WR-CALNAME:Ehrenamt Cradle to Cradle NGO
X-ORIGINAL-URL:https://ehrenamt.c2c.ngo
X-WR-CALDESC:Veranstaltungen für Ehrenamt Cradle to Cradle NGO
REFRESH-INTERVAL;VALUE=DURATION:PT1H
X-Robots-Tag:noindex
X-PUBLISHED-TTL:PT1H
BEGIN:VTIMEZONE
TZID:Europe/Berlin
BEGIN:DAYLIGHT
TZOFFSETFROM:+0100
TZOFFSETTO:+0200
TZNAME:CEST
DTSTART:20230326T010000
END:DAYLIGHT
BEGIN:STANDARD
TZOFFSETFROM:+0200
TZOFFSETTO:+0100
TZNAME:CET
DTSTART:20231029T010000
END:STANDARD
BEGIN:DAYLIGHT
TZOFFSETFROM:+0100
TZOFFSETTO:+0200
TZNAME:CEST
DTSTART:20240331T010000
END:DAYLIGHT
BEGIN:STANDARD
TZOFFSETFROM:+0200
TZOFFSETTO:+0100
TZNAME:CET
DTSTART:20241027T010000
END:STANDARD
BEGIN:DAYLIGHT
TZOFFSETFROM:+0100
TZOFFSETTO:+0200
TZNAME:CEST
DTSTART:20250330T010000
END:DAYLIGHT
BEGIN:STANDARD
TZOFFSETFROM:+0200
TZOFFSETTO:+0100
TZNAME:CET
DTSTART:20251026T010000
END:STANDARD
END:VTIMEZONE
BEGIN:VEVENT
DTSTART;TZID=Europe/Berlin:20241019T110000
DTEND;TZID=Europe/Berlin:20241019T123000
DTSTAMP:20260419T180354
CREATED:20230920T221534Z
LAST-MODIFIED:20240911T210342Z
UID:5328-1729335600-1729341000@ehrenamt.c2c.ngo
SUMMARY:C2C Stadtrundgang in Hamburg
DESCRIPTION:Wir laden euch ein zum C2C Stadtrundgang. Am Samstag\, den 19.10. um 11 Uhr treffen wir uns an der Trostbrücke. Das „C2C-Wissen to go“ dauert etwa 90 Minuten und bietet euch die Möglichkeit auf eine lebendige Art und Weise C2C Grundlagen zu erfahren. Bringt auch gern Freunde und Bekannte mit auf die Entdeckungsreise. \nDie Teilnahme ist kostenlos. \nMeldet euch bitte unter hamburg@ehrenamt.c2c.ngo an.
URL:https://ehrenamt.c2c.ngo/event/c2c-stadtrundgang-in-hamburg-8/
LOCATION:Trostbrücke Hamburg\, Trostbrücke\, Hamburg\, Hamburg\, 20457\, Deutschland
CATEGORIES:Events von Aktiven,RG Hamburg
ATTACH;FMTTYPE=image/jpeg:https://ehrenamt.c2c.ngo/wp-content/uploads/2023/09/IMG20230610113831-scaled.jpg
END:VEVENT
END:VCALENDAR