BEGIN:VCALENDAR
VERSION:2.0
PRODID:-//Ehrenamt Cradle to Cradle NGO - ECPv6.15.12.2//NONSGML v1.0//EN
CALSCALE:GREGORIAN
METHOD:PUBLISH
X-WR-CALNAME:Ehrenamt Cradle to Cradle NGO
X-ORIGINAL-URL:https://ehrenamt.c2c.ngo
X-WR-CALDESC:Veranstaltungen für Ehrenamt Cradle to Cradle NGO
REFRESH-INTERVAL;VALUE=DURATION:PT1H
X-Robots-Tag:noindex
X-PUBLISHED-TTL:PT1H
BEGIN:VTIMEZONE
TZID:Europe/Berlin
BEGIN:DAYLIGHT
TZOFFSETFROM:+0100
TZOFFSETTO:+0200
TZNAME:CEST
DTSTART:20230326T010000
END:DAYLIGHT
BEGIN:STANDARD
TZOFFSETFROM:+0200
TZOFFSETTO:+0100
TZNAME:CET
DTSTART:20231029T010000
END:STANDARD
BEGIN:DAYLIGHT
TZOFFSETFROM:+0100
TZOFFSETTO:+0200
TZNAME:CEST
DTSTART:20240331T010000
END:DAYLIGHT
BEGIN:STANDARD
TZOFFSETFROM:+0200
TZOFFSETTO:+0100
TZNAME:CET
DTSTART:20241027T010000
END:STANDARD
BEGIN:DAYLIGHT
TZOFFSETFROM:+0100
TZOFFSETTO:+0200
TZNAME:CEST
DTSTART:20250330T010000
END:DAYLIGHT
BEGIN:STANDARD
TZOFFSETFROM:+0200
TZOFFSETTO:+0100
TZNAME:CET
DTSTART:20251026T010000
END:STANDARD
END:VTIMEZONE
BEGIN:VEVENT
DTSTART;VALUE=DATE:20241016
DTEND;VALUE=DATE:20241017
DTSTAMP:20260419T180452
CREATED:20240517T124351Z
LAST-MODIFIED:20240517T124351Z
UID:6365-1729036800-1729123199@ehrenamt.c2c.ngo
SUMMARY:csrTAG 2024
DESCRIPTION:Vielfalt ist eine unternehmerische Ressource\, gesellschaftliche und planetare Gegebenheit und ein persönliches Anliegen bei respACT. Unter dem Titel diversity2 – It’s In Our Nature! will respACT am csrTAG 2024 die Themen Diversität und Biodiversität beleuchten\, diskutieren und vorantreiben. Denn: Eine zukunftsfähige Wirtschaft ist vielfältig nachhaltig. \nC2C Pionier Reinhard Backhausen und RG Wien Mitglied Nico Devantié gestalten eine Session zu Cradle to Cradle.
URL:https://ehrenamt.c2c.ngo/event/csrtag-2024/
LOCATION:Bank Austria Unicredit-Center\, Eiswerkstraße 20\, Wien\, Wien\, 1220\, Österreich
CATEGORIES:Events von Aktiven,RG Wien
ATTACH;FMTTYPE=image/jpeg:https://ehrenamt.c2c.ngo/wp-content/uploads/2024/05/photo_2022-06-12_08-32-38.jpg
END:VEVENT
BEGIN:VEVENT
DTSTART;TZID=Europe/Berlin:20241016T190000
DTEND;TZID=Europe/Berlin:20241016T210000
DTSTAMP:20260419T180452
CREATED:20240911T211229Z
LAST-MODIFIED:20240911T211229Z
UID:6645-1729105200-1729112400@ehrenamt.c2c.ngo
SUMMARY:RG-Treffen Hamburg
DESCRIPTION:Lerne die RG Hamburg kennen und sei bei unserem regelmäßig stattfindenden Regionalgruppentreffen dabei!\nWir machen einen kurzen Rückblick\, haben einen Themeninput\, planen zukünftige Termine und haben Zeit zum Netzwerken. \nWir treffen uns im Betahaus in der Schanze\, melde dich gern vorher an unter hamburg@ehrenamt.c2c.ngo.
URL:https://ehrenamt.c2c.ngo/event/rg-treffen-hamburg-10/
LOCATION:Betahaus Hamburg\, Eifflerstraße 43\, Hamburg\, Hamburg\, 22769\, Deutschland
CATEGORIES:Events von Aktiven,RG Hamburg
ATTACH;FMTTYPE=image/jpeg:https://ehrenamt.c2c.ngo/wp-content/uploads/2020/11/C2C_das-ist-nichts-für-dich-option2_web2.jpg
END:VEVENT
END:VCALENDAR