BEGIN:VCALENDAR
VERSION:2.0
PRODID:-//Ehrenamt Cradle to Cradle NGO - ECPv6.15.12.2//NONSGML v1.0//EN
CALSCALE:GREGORIAN
METHOD:PUBLISH
X-ORIGINAL-URL:https://ehrenamt.c2c.ngo
X-WR-CALDESC:Veranstaltungen für Ehrenamt Cradle to Cradle NGO
REFRESH-INTERVAL;VALUE=DURATION:PT1H
X-Robots-Tag:noindex
X-PUBLISHED-TTL:PT1H
BEGIN:VTIMEZONE
TZID:Europe/Berlin
BEGIN:DAYLIGHT
TZOFFSETFROM:+0100
TZOFFSETTO:+0200
TZNAME:CEST
DTSTART:20230326T010000
END:DAYLIGHT
BEGIN:STANDARD
TZOFFSETFROM:+0200
TZOFFSETTO:+0100
TZNAME:CET
DTSTART:20231029T010000
END:STANDARD
BEGIN:DAYLIGHT
TZOFFSETFROM:+0100
TZOFFSETTO:+0200
TZNAME:CEST
DTSTART:20240331T010000
END:DAYLIGHT
BEGIN:STANDARD
TZOFFSETFROM:+0200
TZOFFSETTO:+0100
TZNAME:CET
DTSTART:20241027T010000
END:STANDARD
BEGIN:DAYLIGHT
TZOFFSETFROM:+0100
TZOFFSETTO:+0200
TZNAME:CEST
DTSTART:20250330T010000
END:DAYLIGHT
BEGIN:STANDARD
TZOFFSETFROM:+0200
TZOFFSETTO:+0100
TZNAME:CET
DTSTART:20251026T010000
END:STANDARD
END:VTIMEZONE
BEGIN:VEVENT
DTSTART;TZID=Europe/Berlin:20241001T090000
DTEND;TZID=Europe/Berlin:20241001T180000
DTSTAMP:20260419T181436
CREATED:20240517T123643Z
LAST-MODIFIED:20240517T123643Z
UID:6359-1727773200-1727805600@ehrenamt.c2c.ngo
SUMMARY:Close the circle IV
DESCRIPTION:Klimaschutz\, Klima Resilienz und verantwortungsvoller Umgang mit unseren Ressourcen sind unbestritten DIE Herausforderungen unserer Zeit: Energieeffizienz und -wende\, Kreislaufwirtschaft\, Dekarbonisierung sind mögliche Antworten. Jetzt ist die letzte Chance zu handeln! Wissenschaft\, Technik\, Innovation und Umsetzungsstärke müssen mit den rechtlichen Rahmenbedingungen Hand in Hand gehen\, um die Zukunft aktiv gestalten zu können. Smartes Ressourcenmanagement und neue Kooperationsmodelle sind maßgeblich\, damit die Ressourcenwende gelingt. \nEine der Sessions auf der Konferenz: BEST PRACTICE von Reinhard Backhausen\nCradle-to-cradle Prinzipien – Was heißt das ganz praktisch?\nMit Nico Devantié aus der Regionalgruppe Wien.
URL:https://ehrenamt.c2c.ngo/event/close-the-circle-iv/
LOCATION:Palais Eschenbach\, Eschenbachgasse 9\, Wien\, Wien\, 1010\, Österreich
CATEGORIES:Events von Aktiven,RG Wien
ATTACH;FMTTYPE=image/png:https://ehrenamt.c2c.ngo/wp-content/uploads/2024/05/panlepub.png
END:VEVENT
END:VCALENDAR