BEGIN:VCALENDAR
VERSION:2.0
PRODID:-//Ehrenamt Cradle to Cradle NGO - ECPv6.15.12.2//NONSGML v1.0//EN
CALSCALE:GREGORIAN
METHOD:PUBLISH
X-WR-CALNAME:Ehrenamt Cradle to Cradle NGO
X-ORIGINAL-URL:https://ehrenamt.c2c.ngo
X-WR-CALDESC:Veranstaltungen für Ehrenamt Cradle to Cradle NGO
REFRESH-INTERVAL;VALUE=DURATION:PT1H
X-Robots-Tag:noindex
X-PUBLISHED-TTL:PT1H
BEGIN:VTIMEZONE
TZID:Europe/Berlin
BEGIN:DAYLIGHT
TZOFFSETFROM:+0100
TZOFFSETTO:+0200
TZNAME:CEST
DTSTART:20230326T010000
END:DAYLIGHT
BEGIN:STANDARD
TZOFFSETFROM:+0200
TZOFFSETTO:+0100
TZNAME:CET
DTSTART:20231029T010000
END:STANDARD
BEGIN:DAYLIGHT
TZOFFSETFROM:+0100
TZOFFSETTO:+0200
TZNAME:CEST
DTSTART:20240331T010000
END:DAYLIGHT
BEGIN:STANDARD
TZOFFSETFROM:+0200
TZOFFSETTO:+0100
TZNAME:CET
DTSTART:20241027T010000
END:STANDARD
BEGIN:DAYLIGHT
TZOFFSETFROM:+0100
TZOFFSETTO:+0200
TZNAME:CEST
DTSTART:20250330T010000
END:DAYLIGHT
BEGIN:STANDARD
TZOFFSETFROM:+0200
TZOFFSETTO:+0100
TZNAME:CET
DTSTART:20251026T010000
END:STANDARD
END:VTIMEZONE
BEGIN:VEVENT
DTSTART;TZID=Europe/Berlin:20240921T120000
DTEND;TZID=Europe/Berlin:20240922T170000
DTSTAMP:20260421T114945
CREATED:20240912T093307Z
LAST-MODIFIED:20240917T203332Z
UID:6649-1726920000-1727024400@ehrenamt.c2c.ngo
SUMMARY:C2C & WDC 2026 @ Welterbefest Mathildenhöhe Darmstadt
DESCRIPTION:Am Samstag\, 21.09.\, und Sonntag\, 22.09.\, bieten wir jeweils von 12:00- 14:00 Uhr und 15:00 – 17 Uhr einen C2C-Workshop beim roten Werkstattwagen der World Design Capital (WDC) Frankfurt Rhein-Main auf dem Welterbefest an der Mathildenhöhe in Darmstadt an. \nIm Workshop der Cradle to Cradle NGO habt Ihr die Möglichkeit\, das C2C-Konzept kennenzulernen\, selbst Produkte und Materialien nach C2C-Kriterien zu bewerten und Positivbeispiele zu entdecken. Wer möchte\, kann außerdem Seedbombs bauen\, kleine Kugeln aus Erde\, Ton und Blumensamen\, die Ihr überall in der Natur wegwerfen könnt\, damit an dieser Stelle Blumen wachsen: Quasi ein Mitbringsel zum Wegwerfen\, das keinen Müll produziert. \nKommt vorbei\, wir freuen uns auf euch! \nWeitere Informationen zur Veranstaltung auch auf der Webseite der WDC: https://wdc2026.org/workshop-truck-on-the-road/ \n  \n 
URL:https://ehrenamt.c2c.ngo/event/c2c-wdc-welterbefest-darmstadt/
CATEGORIES:Events von Aktiven,RG Darmstadt
ATTACH;FMTTYPE=image/png:https://ehrenamt.c2c.ngo/wp-content/uploads/2024/09/C2C-x-WDC2026-@-Mathildenhoehe-1.png
END:VEVENT
END:VCALENDAR