BEGIN:VCALENDAR
VERSION:2.0
PRODID:-//Ehrenamt Cradle to Cradle NGO - ECPv6.15.12.2//NONSGML v1.0//EN
CALSCALE:GREGORIAN
METHOD:PUBLISH
X-ORIGINAL-URL:https://ehrenamt.c2c.ngo
X-WR-CALDESC:Veranstaltungen für Ehrenamt Cradle to Cradle NGO
REFRESH-INTERVAL;VALUE=DURATION:PT1H
X-Robots-Tag:noindex
X-PUBLISHED-TTL:PT1H
BEGIN:VTIMEZONE
TZID:Europe/Berlin
BEGIN:DAYLIGHT
TZOFFSETFROM:+0100
TZOFFSETTO:+0200
TZNAME:CEST
DTSTART:20230326T010000
END:DAYLIGHT
BEGIN:STANDARD
TZOFFSETFROM:+0200
TZOFFSETTO:+0100
TZNAME:CET
DTSTART:20231029T010000
END:STANDARD
BEGIN:DAYLIGHT
TZOFFSETFROM:+0100
TZOFFSETTO:+0200
TZNAME:CEST
DTSTART:20240331T010000
END:DAYLIGHT
BEGIN:STANDARD
TZOFFSETFROM:+0200
TZOFFSETTO:+0100
TZNAME:CET
DTSTART:20241027T010000
END:STANDARD
BEGIN:DAYLIGHT
TZOFFSETFROM:+0100
TZOFFSETTO:+0200
TZNAME:CEST
DTSTART:20250330T010000
END:DAYLIGHT
BEGIN:STANDARD
TZOFFSETFROM:+0200
TZOFFSETTO:+0100
TZNAME:CET
DTSTART:20251026T010000
END:STANDARD
END:VTIMEZONE
BEGIN:VEVENT
DTSTART;TZID=Europe/Berlin:20240301T110000
DTEND;TZID=Europe/Berlin:20240704T180000
DTSTAMP:20260422T112035
CREATED:20240424T123428Z
LAST-MODIFIED:20240424T123428Z
UID:6307-1709290800-1720116000@ehrenamt.c2c.ngo
SUMMARY:KREIS STATT KRISE – DIE INTERAKTIVE C2C-AUSSTELLUNG
DESCRIPTION:Taucht ein in eine Welt ohne Müll! \nEntdeckt in der Cradle to Cradle-Ausstellung in Berlin\, wie wir mit dem Kreislaufprinzip Cradle to Cradle eine lebenswerte Zukunft gestalten können: klimapositiv statt klimaneutral\, gesunde Produkte statt Ressourcenknappheit\, Kreis statt Krise! \nKlimawandel\, Ressourcenknappheit\, Biodiversitätskrise und soziale Ungleichheit: Wie wir heute leben und handeln ist alles andere als zukunftsfähig. Doch eine andere Welt ist schon heute möglich und wir alle können sie aktiv mitgestalten. \nWie? Das erlebt ihr bei der Ausstellung “Kreis statt Krise” vom 01. März bis 04. Juli 2024 von Cradle to Cradle NGO in Kooperation mit Freiraum in der Box in Berlin-Friedrichshain. \nDie Ausstellung stellt ein positives Zukunftsbild vor\, macht das Unvorstellbare anhand von Praxisbeispielen greifbar und zeigt\, wie wir alle eine lebenswerte Zukunft gestalten können. \nDie zweisprachige Ausstellung (deutsch und englisch) ist kostenlos. \nÖffnungszeiten \nDonnerstag + Freitag: 11:00 – 18:00 Uhr \nSamstag: 11:00 – 16:00 Uhr \n>> alle weiteren Infos zur Ausstellung hier
URL:https://ehrenamt.c2c.ngo/event/kreis-statt-krise-die-interaktive-c2c-ausstellung/
LOCATION:Freiraum in der Box\, Boxhagener Str. 96\, Berlin\, 10245
CATEGORIES:C2C NGO
ATTACH;FMTTYPE=image/png:https://ehrenamt.c2c.ngo/wp-content/uploads/2024/04/SoMe-Post_Ausstellung_12.12.23_3.png
END:VEVENT
BEGIN:VEVENT
DTSTART;TZID=Europe/Berlin:20240420T100000
DTEND;TZID=Europe/Berlin:20240420T160000
DTSTAMP:20260422T112035
CREATED:20240411T090350Z
LAST-MODIFIED:20240411T090350Z
UID:6260-1713607200-1713628800@ehrenamt.c2c.ngo
SUMMARY:C2C NGO Starterseminar
DESCRIPTION:  \nLiebe Cradle to Cradle-Interessierte und Aktive\, \nder Arbeitskreis Seminare veranstaltet am Samstag\, den 20. April 2024 das nächste C2C Starterseminar.\nDas Seminar bietet die Möglichkeit die wichtigen Basics über Cradle to Cradle und alles rund um die Arbeit von C2C NGO zu erfahren und richtet sich an die Aktiven von C2C NGO und alle Interessierten. \nDas Seminar ist kostenlos und findet von 10:00 bis ca. 16:00 Uhr in Graz statt. \nAdresse: \nBüro next-incubator\, 5. Stock \nSchubertstrasse 6a\,  \n8010 Graz \nWas erwartet Euch?\nDie Cradle to Cradle-Trainer*innen geben  zunächst einen Einführungsvortrag über Cradle to Cradle\, um alle auf einen Stand zu bringen. Im weiteren Verlauf schließen sich interaktive Module zu den Themen Zertifizierung\, Produktbeispiele\, FAQs\, C2C NGO etc. an. \nJetzt schnell anmelden und dabei sein! \nAnmeldung hier! \nWir freuen uns auf Dich!\nDas Trainer*innenteam von AK Seminare und Team Ehrenamtsmanagement🙂
URL:https://ehrenamt.c2c.ngo/event/c2c-ngo-starterseminar/
LOCATION:Büro next-incubator\, 5. Stock\, Schubertstrasse 6a\, Graz\, 8010\, Österreich
CATEGORIES:C2C NGO,Starterseminar
ATTACH;FMTTYPE=image/jpeg:https://ehrenamt.c2c.ngo/wp-content/uploads/2023/10/IMG_5888-scaled.jpg
ORGANIZER;CN="AK Seminare":MAILTO:seminare@c2c.ngo
END:VEVENT
END:VCALENDAR